BEGIN:VCALENDAR
VERSION:2.0
PRODID:-//League of Women Voters of Naperville - ECPv6.13.2.1//NONSGML v1.0//EN
CALSCALE:GREGORIAN
METHOD:PUBLISH
X-WR-CALNAME:League of Women Voters of Naperville
X-ORIGINAL-URL:https://lwvnaperville.org
X-WR-CALDESC:Events for League of Women Voters of Naperville
REFRESH-INTERVAL;VALUE=DURATION:PT1H
X-Robots-Tag:noindex
X-PUBLISHED-TTL:PT1H
BEGIN:VTIMEZONE
TZID:America/New_York
BEGIN:DAYLIGHT
TZOFFSETFROM:-0500
TZOFFSETTO:-0400
TZNAME:EDT
DTSTART:20220313T070000
END:DAYLIGHT
BEGIN:STANDARD
TZOFFSETFROM:-0400
TZOFFSETTO:-0500
TZNAME:EST
DTSTART:20221106T060000
END:STANDARD
END:VTIMEZONE
BEGIN:VEVENT
DTSTART;TZID=America/New_York:20220810T190000
DTEND;TZID=America/New_York:20220810T200000
DTSTAMP:20260421T110756
CREATED:20220727T200706Z
LAST-MODIFIED:20220831T014428Z
UID:45836-1660158000-1660161600@lwvnaperville.org
SUMMARY:Monthly Ideas Forum – Confronting Gun Violence in Illinois
DESCRIPTION:The League of Women Voters has had a strong position on gun safety and gun violence for many years. The League of Women Voters believes that the proliferation of handguns and semiautomatic assault weapons in the United States is a major health and safety threat to its citizens. The League supports regulating firearms for consumer safety. \nJim McGrath\, Gun Violence Prevention issues specialist with the League of Women Voters of Illinois\, will review interpretations of the second amendment while focusing on current laws and issues on the local level. He’ll discuss proposed bills in Illinois and how to become active in this important issues. \nRegister here.
URL:https://lwvnaperville.org/event/monthly-ideas-forum-confronting-gun-violence-in-illinois/
LOCATION:Zoom Meeting
ATTACH;FMTTYPE=image/jpeg:https://lwvnaperville.org/wp-content/uploads/2022/07/unnamed.jpg
END:VEVENT
END:VCALENDAR